BEGIN:VCALENDAR
VERSION:2.0
PRODID:-//OmniMagnetCalendar//EN
BEGIN:VEVENT
DTSTAMP:20190625T195740Z
STATUS:CONFIRMED
UID:hcsandiego.clubs.harvard.edu1212
DTSTART:20260522T010000Z
DTEND:20260522T033000Z
LOCATION:
SUMMARY:May 21, 2026 - HCSD Happy Hour at LOS/NR in La Jolla
DESCRIPTION:Please join us for a Happy Hour and Networking Event in La Jolla at LOS/NR which is not your usual art gallery founded by Harvard alumni C Fodoreanu.
BEGIN:VALARM
TRIGGER:-PT15M
ACTION:DISPLAY
END:VALARM
TRANSP:OPAQUE
END:VEVENT
END:VCALENDAR
