BEGIN:VCALENDAR
VERSION:2.0
PRODID:-//OmniMagnetCalendar//EN
BEGIN:VEVENT
DTSTAMP:20190625T195740Z
STATUS:CONFIRMED
UID:hcsandiego.clubs.harvard.edu1211
DTSTART:20260520T000000Z
DTEND:20260520T010000Z
LOCATION:Virtual,
SUMMARY:May 19, 2026 - Virtual Event on US Immigration Now and Then - Myths and Facts
DESCRIPTION:Hear from Stanford Prof. Ran Abramitzky and Yale Prof. Leah Boustan (Harvard PhD 2006) as they lead a virtual discussion on the myths of immigration based on their book, Streets of Gold: America's Untold Story of Immigrant Success.
BEGIN:VALARM
TRIGGER:-PT15M
ACTION:DISPLAY
END:VALARM
TRANSP:OPAQUE
END:VEVENT
END:VCALENDAR
