BEGIN:VCALENDAR
VERSION:2.0
PRODID:-//OmniMagnetCalendar//EN
BEGIN:VEVENT
DTSTAMP:20190625T195740Z
STATUS:CONFIRMED
UID:hcsandiego.clubs.harvard.edu1204
DTSTART:20260326T003000Z
DTEND:20260326T030000Z
LOCATION:Mintz Law Firm, 3580 Carmel Mountain Rd., Suite 300, San Diego, CA 92130,
SUMMARY:March 25, 2026 - Ivy+ Penn Club Fireside Chat with Gary Li
DESCRIPTION:Biotech fireside chat with Penn alumnus Gary Li
BEGIN:VALARM
TRIGGER:-PT15M
ACTION:DISPLAY
END:VALARM
TRANSP:OPAQUE
END:VEVENT
END:VCALENDAR
