BEGIN:VCALENDAR
VERSION:2.0
PRODID:-//OmniMagnetCalendar//EN
BEGIN:VEVENT
DTSTAMP:20190625T195740Z
STATUS:CONFIRMED
UID:hcsandiego.clubs.harvard.edu1201
DTSTART:20260311T230000Z
DTEND:20260312T000000Z
LOCATION:
SUMMARY:March 11, 2026 - Speakers Bureau Spotlight: The Risk Environment in 2026 with Juliette Kayyem
DESCRIPTION:Professor Kayyem teaches courses on International and Global Affairs and Mitigating and Managing a Crisis at the Harvard Kennedy School.
BEGIN:VALARM
TRIGGER:-PT15M
ACTION:DISPLAY
END:VALARM
TRANSP:OPAQUE
END:VEVENT
END:VCALENDAR
