BEGIN:VCALENDAR
VERSION:2.0
PRODID:-//OmniMagnetCalendar//EN
BEGIN:VEVENT
DTSTAMP:20190625T195740Z
STATUS:CONFIRMED
UID:hcsandiego.clubs.harvard.edu1199
DTSTART:20260311T003000Z
DTEND:20260311T033000Z
LOCATION:Rose Wine Bar,
SUMMARY:March 10, 2026 - Ivy+ Young Alumni of San Diego Happy Hour
DESCRIPTION:Come meet and network with local Ivy+ alumni
BEGIN:VALARM
TRIGGER:-PT15M
ACTION:DISPLAY
END:VALARM
TRANSP:OPAQUE
END:VEVENT
END:VCALENDAR
