BEGIN:VCALENDAR
VERSION:2.0
PRODID:-//OmniMagnetCalendar//EN
BEGIN:VEVENT
DTSTAMP:20190625T195740Z
STATUS:CONFIRMED
UID:hcsandiego.clubs.harvard.edu1198
DTSTART:20260320T010000Z
DTEND:20260320T025000Z
LOCATION:Virtual,
SUMMARY:March 19, 2026 - Ivy+ MIT Clubs Dr. Tom Miller Delivering on the Promise of AI-Driven Drug Discovery
DESCRIPTION:Join the MIT Clubs of San Diego and Southern California, the Caltech Alumni Association, and the San Diego Ivy+ Clubs for a conversation with Tom Miller, co-founder and CEO of Iambic Therapeutics, on "Delivering on the Promise of AI-Driven Drug Discovery.
BEGIN:VALARM
TRIGGER:-PT15M
ACTION:DISPLAY
END:VALARM
TRANSP:OPAQUE
END:VEVENT
END:VCALENDAR
