BEGIN:VCALENDAR
VERSION:2.0
PRODID:-//OmniMagnetCalendar//EN
BEGIN:VEVENT
DTSTAMP:20190625T195740Z
STATUS:CONFIRMED
UID:hcsandiego.clubs.harvard.edu1193
DTSTART:20260321T203000Z
DTEND:20260321T223000Z
LOCATION:
SUMMARY:March 21, 2026 - Volunteer to Conduct Mock Interviews for First Gen Scholars
DESCRIPTION:Volunteers will conduct practice interviews with FGS high school students as they prepare for upcoming interviews. Information will be provided in advance to help walk volunteers through the interview format, providing sample questions.
BEGIN:VALARM
TRIGGER:-PT15M
ACTION:DISPLAY
END:VALARM
TRANSP:OPAQUE
END:VEVENT
END:VCALENDAR
