BEGIN:VCALENDAR
VERSION:2.0
PRODID:-//OmniMagnetCalendar//EN
BEGIN:VEVENT
DTSTAMP:20190625T195740Z
STATUS:CONFIRMED
UID:hcsandiego.clubs.harvard.edu1191
DTSTART:20260225T023000Z
DTEND:20260225T053000Z
LOCATION:Shakespeare Pub, 3701 India Street, San Diego, CA, 92103,
SUMMARY:February 24, 2026 - Trivia Challenge at Shakespeare Pub
DESCRIPTION:Please join us for our first Harvard/Yale vs. Oxford/Cambridge trivia match of 2026.
BEGIN:VALARM
TRIGGER:-PT15M
ACTION:DISPLAY
END:VALARM
TRANSP:OPAQUE
END:VEVENT
END:VCALENDAR
