BEGIN:VCALENDAR
VERSION:2.0
PRODID:-//OmniMagnetCalendar//EN
BEGIN:VEVENT
DTSTAMP:20190625T195740Z
STATUS:CONFIRMED
UID:hcsandiego.clubs.harvard.edu1184
DTSTART:20251212T020000Z
DTEND:20251213T043000Z
LOCATION:Sky Deck at Del Mar Highlands Town Center,
SUMMARY:December 11, 2025 - Annual Harvard/Yale Holiday Mixer at the Brewer's Deck in Carmel Valley
DESCRIPTION:Holiday mixer and ugly holiday sweater contest.
BEGIN:VALARM
TRIGGER:-PT15M
ACTION:DISPLAY
END:VALARM
TRANSP:OPAQUE
END:VEVENT
END:VCALENDAR
