BEGIN:VCALENDAR
VERSION:2.0
PRODID:-//OmniMagnetCalendar//EN
BEGIN:VEVENT
DTSTAMP:20190625T195740Z
STATUS:CONFIRMED
UID:hcsandiego.clubs.harvard.edu1181
DTSTART:20260201T020000Z
DTEND:20260201T040000Z
LOCATION:Pechanga Arena,
SUMMARY:January 31, 2026 - San Diego Gulls Ivy+ Hockey Game
DESCRIPTION:Join HCSD at Pechanga Arena for a San Diego Gulls vs. Ontario Reign hockey game!
BEGIN:VALARM
TRIGGER:-PT15M
ACTION:DISPLAY
END:VALARM
TRANSP:OPAQUE
END:VEVENT
END:VCALENDAR
