BEGIN:VCALENDAR
VERSION:2.0
PRODID:-//OmniMagnetCalendar//EN
BEGIN:VEVENT
DTSTAMP:20190625T195740Z
STATUS:CONFIRMED
UID:hcsandiego.clubs.harvard.edu1174
DTSTART:20251017T000000Z
DTEND:20251017T020000Z
LOCATION:Cotality Office,
SUMMARY:October 16, 2025 - Ivy+ Prof. Peter Fader Talk
DESCRIPTION:Join the Wharton Alumni Club of San Diego for a talk with Frances and Pei-Yuan Chia Professor of Marketing at the Wharton School of the University of Pennsylvania, Peter S. Fader.
BEGIN:VALARM
TRIGGER:-PT15M
ACTION:DISPLAY
END:VALARM
TRANSP:OPAQUE
END:VEVENT
END:VCALENDAR
