BEGIN:VCALENDAR
VERSION:2.0
PRODID:-//OmniMagnetCalendar//EN
BEGIN:VEVENT
DTSTAMP:20190625T195740Z
STATUS:CONFIRMED
UID:hcsandiego.clubs.harvard.edu1173
DTSTART:20251024T013000Z
DTEND:20251024T033000Z
LOCATION:Mangelsen Gallery, La Jolla Village,
SUMMARY:October 23, 2025 - Ivy+ AI Parlour Talk
DESCRIPTION:Join Oxbridge for a Parlour Talk on AutoComplete to Superintelligence with Brown/Oxford alum, Michael Zellinger
BEGIN:VALARM
TRIGGER:-PT15M
ACTION:DISPLAY
END:VALARM
TRANSP:OPAQUE
END:VEVENT
END:VCALENDAR
