BEGIN:VCALENDAR
VERSION:2.0
PRODID:-//OmniMagnetCalendar//EN
BEGIN:VEVENT
DTSTAMP:20190625T195740Z
STATUS:CONFIRMED
UID:hcsandiego.clubs.harvard.edu1172
DTSTART:20251012T170000Z
DTEND:20251012T190000Z
LOCATION:Japanese Friendship Garden,
SUMMARY:October 12, 2025 - Ivy+ Tour Japanese Friendship Garden
DESCRIPTION:Join other local Ivy+ alumni for family friendly docent tours of the Japanese Friendship Garden
BEGIN:VALARM
TRIGGER:-PT15M
ACTION:DISPLAY
END:VALARM
TRANSP:OPAQUE
END:VEVENT
END:VCALENDAR
