BEGIN:VCALENDAR
VERSION:2.0
PRODID:-//OmniMagnetCalendar//EN
BEGIN:VEVENT
DTSTAMP:20190625T195740Z
STATUS:CONFIRMED
UID:hcsandiego.clubs.harvard.edu1168
DTSTART:20250925T023000Z
DTEND:20250925T033049Z
LOCATION:
SUMMARY:September 24, 2025 -Discussion with Local Author Lizzy Wright (AB '00) at Warwick's
DESCRIPTION:This event is free and open to the public.  
BEGIN:VALARM
TRIGGER:-PT15M
ACTION:DISPLAY
END:VALARM
TRANSP:OPAQUE
END:VEVENT
END:VCALENDAR
