BEGIN:VCALENDAR
VERSION:2.0
PRODID:-//OmniMagnetCalendar//EN
BEGIN:VEVENT
DTSTAMP:20190625T195740Z
STATUS:CONFIRMED
UID:hcsandiego.clubs.harvard.edu1165
DTSTART:20250927T220000Z
DTEND:20250928T000000Z
LOCATION:Mission Bay Aquatic Center,
SUMMARY:September 27, 2025 - Ivy+ Young Alumni Kayaking/Paddleboarding
DESCRIPTION:Join other local Ivy+ young alumni for a day out on the water!
BEGIN:VALARM
TRIGGER:-PT15M
ACTION:DISPLAY
END:VALARM
TRANSP:OPAQUE
END:VEVENT
END:VCALENDAR
