BEGIN:VCALENDAR
VERSION:2.0
PRODID:-//OmniMagnetCalendar//EN
BEGIN:VEVENT
DTSTAMP:20190625T195740Z
STATUS:CONFIRMED
UID:hcsandiego.clubs.harvard.edu1163
DTSTART:20250920T200000Z
DTEND:20250920T200001Z
LOCATION:
SUMMARY:Volunteer to Conduct Mock Interviews for First Gen Scholars - Cancelled
DESCRIPTION:Volunteers will conduct practice interviews with FGS high school students as they prepare for upcoming college interviews.
BEGIN:VALARM
TRIGGER:-PT15M
ACTION:DISPLAY
END:VALARM
TRANSP:OPAQUE
END:VEVENT
END:VCALENDAR
