BEGIN:VCALENDAR
VERSION:2.0
PRODID:-//OmniMagnetCalendar//EN
BEGIN:VEVENT
DTSTAMP:20190625T195740Z
STATUS:CONFIRMED
UID:hcsandiego.clubs.harvard.edu1162
DTSTART:20250919T011500Z
DTEND:20250919T050000Z
LOCATION:
SUMMARY:September 18, 2025 - Discounted Tickets for "Huzzah!" at the Old Globe Shiley Stage
DESCRIPTION:Please join the Ivy + Alumni Clubs of San Diego for a performance of "Huzzah!".  Book, music and lyrics by Harvard Alumni Nell Benjamin and Laurence O'Keefe.
BEGIN:VALARM
TRIGGER:-PT15M
ACTION:DISPLAY
END:VALARM
TRANSP:OPAQUE
END:VEVENT
END:VCALENDAR
