BEGIN:VCALENDAR
VERSION:2.0
PRODID:-//OmniMagnetCalendar//EN
BEGIN:VEVENT
DTSTAMP:20190625T195740Z
STATUS:CONFIRMED
UID:hcsandiego.clubs.harvard.edu1160
DTSTART:20250823T010000Z
DTEND:20250823T030000Z
LOCATION:San Diego Natural History Museum,
SUMMARY:August 22, 2025 - Ivy+ Young Alumni of San Diego Nat at Night
DESCRIPTION:Join other local Ivy+ young alumni for a Nat at Night event at the San Diego Natural History Museum
BEGIN:VALARM
TRIGGER:-PT15M
ACTION:DISPLAY
END:VALARM
TRANSP:OPAQUE
END:VEVENT
END:VCALENDAR
