BEGIN:VCALENDAR
VERSION:2.0
PRODID:-//OmniMagnetCalendar//EN
BEGIN:VEVENT
DTSTAMP:20190625T195740Z
STATUS:CONFIRMED
UID:hcsandiego.clubs.harvard.edu1159
DTSTART:20251001T003000Z
DTEND:20251001T023000Z
LOCATION:San Diego, CA,
SUMMARY:September 30, 2025 - Welcome to Your City: San Diego - Harland Brewing - Carmel Valley
DESCRIPTION:Every year we have an event to welcome new Harvard graduates to San Diego. All alumni are invited to this event.
BEGIN:VALARM
TRIGGER:-PT15M
ACTION:DISPLAY
END:VALARM
TRANSP:OPAQUE
END:VEVENT
END:VCALENDAR
