BEGIN:VCALENDAR
VERSION:2.0
PRODID:-//OmniMagnetCalendar//EN
BEGIN:VEVENT
DTSTAMP:20190625T195740Z
STATUS:CONFIRMED
UID:hcsandiego.clubs.harvard.edu1158
DTSTART:20250912T010410Z
DTEND:20250912T020000Z
LOCATION:
SUMMARY:September 11, 2025 - AI and Media Virtual Talk by Harvard Alumni SK Sharma
DESCRIPTION:The Intersection of AI and Media: An Intimate Conversation with Former Chief Analytics & AI Officer of Universal Music Group
BEGIN:VALARM
TRIGGER:-PT15M
ACTION:DISPLAY
END:VALARM
TRANSP:OPAQUE
END:VEVENT
END:VCALENDAR
