BEGIN:VCALENDAR
VERSION:2.0
PRODID:-//OmniMagnetCalendar//EN
BEGIN:VEVENT
DTSTAMP:20190625T195740Z
STATUS:CONFIRMED
UID:hcsandiego.clubs.harvard.edu1157
DTSTART:20250829T200000Z
DTEND:20250829T220000Z
LOCATION:Virtual,
SUMMARY:August 29, 2025 - Harvard Global Day of Service
DESCRIPTION:As part of Harvard's 2025 Global Day of Service, HCSD will be partnering with Just In Time for Foster Youth.
BEGIN:VALARM
TRIGGER:-PT15M
ACTION:DISPLAY
END:VALARM
TRANSP:OPAQUE
END:VEVENT
END:VCALENDAR
