BEGIN:VCALENDAR
VERSION:2.0
PRODID:-//OmniMagnetCalendar//EN
BEGIN:VEVENT
DTSTAMP:20190625T195740Z
STATUS:CONFIRMED
UID:hcsandiego.clubs.harvard.edu1155
DTSTART:20250821T010000Z
DTEND:20250821T030000Z
LOCATION:Mangelsen Gallery,
SUMMARY:August 20, 2025 - Parlour Talk Shakespeare's Tempest & C. S. Lewis's The Abolition of Man
DESCRIPTION:Ivy+ Parlour Talk on Magic, Science, Sacrament and Sacrifice - Shakespeare's Tempest as prequel to C. S. Lewis's The Abolition of Man at Mangelsen Gallery in La Jolla Village
BEGIN:VALARM
TRIGGER:-PT15M
ACTION:DISPLAY
END:VALARM
TRANSP:OPAQUE
END:VEVENT
END:VCALENDAR
