BEGIN:VCALENDAR
VERSION:2.0
PRODID:-//OmniMagnetCalendar//EN
BEGIN:VEVENT
DTSTAMP:20190625T195740Z
STATUS:CONFIRMED
UID:hcsandiego.clubs.harvard.edu1153
DTSTART:20250821T000000Z
DTEND:20250821T030000Z
LOCATION:New English Brewing (Sorrento Valley),
SUMMARY:August 20, 2025 - Ivy+ Life Sciences Happy Hour at New English Brewing (Sorrento Valley)
DESCRIPTION:Come meet local Ivy+ Alumni in biopharmaceuticals and healthcare, hosted by the Penn Alumni Club of San Diego
BEGIN:VALARM
TRIGGER:-PT15M
ACTION:DISPLAY
END:VALARM
TRANSP:OPAQUE
END:VEVENT
END:VCALENDAR
