BEGIN:VCALENDAR
VERSION:2.0
PRODID:-//OmniMagnetCalendar//EN
BEGIN:VEVENT
DTSTAMP:20190625T195740Z
STATUS:CONFIRMED
UID:hcsandiego.clubs.harvard.edu1152
DTSTART:20250815T010000Z
DTEND:20250815T030000Z
LOCATION:Ballast Point Brewery (Miramar),
SUMMARY:August 14, 2025 - Ivy+ Happy Hour and Networking Night at Ballast Point (Miramar)
DESCRIPTION:Come meet local Ivy+ Alumni
BEGIN:VALARM
TRIGGER:-PT15M
ACTION:DISPLAY
END:VALARM
TRANSP:OPAQUE
END:VEVENT
END:VCALENDAR
