BEGIN:VCALENDAR
VERSION:2.0
PRODID:-//OmniMagnetCalendar//EN
BEGIN:VEVENT
DTSTAMP:20190625T195740Z
STATUS:CONFIRMED
UID:hcsandiego.clubs.harvard.edu1151
DTSTART:20250810T210000Z
DTEND:20250811T000000Z
LOCATION:Cabrillo National Monument and Eppig Brewing Waterfront Biergarten,
SUMMARY:August 10, 2025 - Ivy+ Hike and Hops with Columbia
DESCRIPTION:A relaxed afternoon at Cabrillo National Monument along the Bayside Trail and hops at Eppig Brewing Waterfront Biergarten in Point Loma
BEGIN:VALARM
TRIGGER:-PT15M
ACTION:DISPLAY
END:VALARM
TRANSP:OPAQUE
END:VEVENT
END:VCALENDAR
