BEGIN:VCALENDAR
VERSION:2.0
PRODID:-//OmniMagnetCalendar//EN
BEGIN:VEVENT
DTSTAMP:20190625T195740Z
STATUS:CONFIRMED
UID:hcsandiego.clubs.harvard.edu1148
DTSTART:20250713T223000Z
DTEND:20250714T013000Z
LOCATION:Elfin Forest Reserve and Stone Brewing Escondido,
SUMMARY:July 13, 2025 - Ivy+ Hike and Hops with Columbia
DESCRIPTION:Explore the beautiful trails of Elfin Forest Reserve and then enjoy hops at Stone Brewing Escondido.
BEGIN:VALARM
TRIGGER:-PT15M
ACTION:DISPLAY
END:VALARM
TRANSP:OPAQUE
END:VEVENT
END:VCALENDAR
