BEGIN:VCALENDAR
VERSION:2.0
PRODID:-//OmniMagnetCalendar//EN
BEGIN:VEVENT
DTSTAMP:20190625T195740Z
STATUS:CONFIRMED
UID:hcsandiego.clubs.harvard.edu1147
DTSTART:20250723T020000Z
DTEND:20250723T030000Z
LOCATION:La Jolla,
SUMMARY:July 22, 2025 - An Evening with Dr. Kristian Andersen, Global Expert in Infectious Disease Research
DESCRIPTION:A rare opportunity to hear directly from Dr. Kristian Andersen, one of the most influential scientists shaping global health policy and research today, and an internationally recognized leader in genomics and infectious disease epidemiology.
BEGIN:VALARM
TRIGGER:-PT15M
ACTION:DISPLAY
END:VALARM
TRANSP:OPAQUE
END:VEVENT
END:VCALENDAR
