BEGIN:VCALENDAR
VERSION:2.0
PRODID:-//OmniMagnetCalendar//EN
BEGIN:VEVENT
DTSTAMP:20190625T195740Z
STATUS:CONFIRMED
UID:hcsandiego.clubs.harvard.edu1145
DTSTART:20250810T150000Z
DTEND:20250810T180000Z
LOCATION:West Coast Dance Center, 5550 Carmel Mountain Road, Suite 213, San Diego, CA, 92130,
SUMMARY:August 10, 2025 - Jazzercise and Brunch
DESCRIPTION:August Jazzercise and Brunch
BEGIN:VALARM
TRIGGER:-PT15M
ACTION:DISPLAY
END:VALARM
TRANSP:OPAQUE
END:VEVENT
END:VCALENDAR
