BEGIN:VCALENDAR
VERSION:2.0
PRODID:-//OmniMagnetCalendar//EN
BEGIN:VEVENT
DTSTAMP:20190625T195740Z
STATUS:CONFIRMED
UID:hcsandiego.clubs.harvard.edu1143
DTSTART:20250724T020000Z
DTEND:20250724T050000Z
LOCATION:
SUMMARY:July 23, 2025 - Discounted Tickets to "Noises Off" at The Old Globe Theater
DESCRIPTION:Please join Harvard alumni along with alumni from the San Diego Ivy + group for a performance of "Noises Off" at The Old Globe Theater.
BEGIN:VALARM
TRIGGER:-PT15M
ACTION:DISPLAY
END:VALARM
TRANSP:OPAQUE
END:VEVENT
END:VCALENDAR
