BEGIN:VCALENDAR
VERSION:2.0
PRODID:-//OmniMagnetCalendar//EN
BEGIN:VEVENT
DTSTAMP:20190625T195740Z
STATUS:CONFIRMED
UID:hcsandiego.clubs.harvard.edu1140
DTSTART:20250801T010000Z
DTEND:20250801T030000Z
LOCATION:Ballast Point Brewing,
SUMMARY:July 31, 2025 - HCSD Community Service Event with HandsOn San Diego at Ballast Point Brewing
DESCRIPTION:Please join us for a community service event with HandsOn San Diego.
BEGIN:VALARM
TRIGGER:-PT15M
ACTION:DISPLAY
END:VALARM
TRANSP:OPAQUE
END:VEVENT
END:VCALENDAR
