BEGIN:VCALENDAR
VERSION:2.0
PRODID:-//OmniMagnetCalendar//EN
BEGIN:VEVENT
DTSTAMP:20190625T195740Z
STATUS:CONFIRMED
UID:hcsandiego.clubs.harvard.edu1139
DTSTART:20250711T010000Z
DTEND:20250711T040000Z
LOCATION:New English Brewing,
SUMMARY:July 10, 2025 - Ivy+ Happy Hour and Networking Night at Eureka!
DESCRIPTION:Come meet local Ivy+ Alumni at an event sponsored by the Yale Club of San Diego
BEGIN:VALARM
TRIGGER:-PT15M
ACTION:DISPLAY
END:VALARM
TRANSP:OPAQUE
END:VEVENT
END:VCALENDAR
