BEGIN:VCALENDAR
VERSION:2.0
PRODID:-//OmniMagnetCalendar//EN
BEGIN:VEVENT
DTSTAMP:20190625T195740Z
STATUS:CONFIRMED
UID:hcsandiego.clubs.harvard.edu1137
DTSTART:20250717T013000Z
DTEND:20250717T043000Z
LOCATION:Shakespeare Pub, 3701 India Street, San Diego, CA, 92103,
SUMMARY:July 16, 2025 - Trivia Challenge at Shakespeare Pub
DESCRIPTION:Please join us for our second Harvard/Yale vs. OxBridge trivia match of 2025.
BEGIN:VALARM
TRIGGER:-PT15M
ACTION:DISPLAY
END:VALARM
TRANSP:OPAQUE
END:VEVENT
END:VCALENDAR
